View In:
ArcGIS JavaScript
ArcGIS Online Map Viewer
ArcGIS Earth
Service Description: Ayres Associates provided Dane County, Wisconsin, with digital, 4-band orthoimagery of the Madison Metro Area in 2020 as part of FlyDane/WROC. The aerial imagery was collected on April 4th, 16th, 18th and 19th using a Microsoft Vexcel UltraCam Eagle sensor mounted in a fixed-wing aircraft. Aerial imagery was collected to support 0.25 foot ground sample distance (GSD) orthoimagery to meet ASPRS Class II horizontal accuracy specifications at 1"=50' map scale. The 6-inch pixel orthoimagery was produced to meet or exceed a horizontal accuracy of 0.7 feet RMSE according to ASPRS Positional Accuracy Standards for Digital Geospatial Data. Resultant orthoimagery was rectified to a DEM created from LiDAR collected in 2017. Orthoimagery was delivered in PLSS quarter-section GeoTiff and MrSID tiles and a project wide MrSID mosaic. Supplemental Information: FlyDane/WROC is a multi-entity group of county members and partners led by WROC representatives from Ayres Associates. The goal of the consortium is to build and sustain a multi-participant program to acquire digital orthoimagery and elevation data throughout Wisconsin. Orthoimagery was collected for the Madison Metro Area of Dane County in 2020 to provide consistent deliverable products and accuracy standards for each of the participating entities.
Name: Sun_Prairie_2020_orthimagery
Description: Ayres Associates provided Dane County, Wisconsin, with digital, 4-band orthoimagery of the Madison Metro Area in 2020 as part of FlyDane/WROC. The aerial imagery was collected on April 4th, 16th, 18th and 19th using a Microsoft Vexcel UltraCam Eagle sensor mounted in a fixed-wing aircraft. Aerial imagery was collected to support 0.25 foot ground sample distance (GSD) orthoimagery to meet ASPRS Class II horizontal accuracy specifications at 1"=50' map scale. The 6-inch pixel orthoimagery was produced to meet or exceed a horizontal accuracy of 0.7 feet RMSE according to ASPRS Positional Accuracy Standards for Digital Geospatial Data. Resultant orthoimagery was rectified to a DEM created from LiDAR collected in 2017. Orthoimagery was delivered in PLSS quarter-section GeoTiff and MrSID tiles and a project wide MrSID mosaic. Supplemental Information: FlyDane/WROC is a multi-entity group of county members and partners led by WROC representatives from Ayres Associates. The goal of the consortium is to build and sustain a multi-participant program to acquire digital orthoimagery and elevation data throughout Wisconsin. Orthoimagery was collected for the Madison Metro Area of Dane County in 2020 to provide consistent deliverable products and accuracy standards for each of the participating entities.
Single Fused Map Cache: false
Extent:
XMin: 842235.834
YMin: 505130.02800000005
XMax: 879261.834
YMax: 537441.028
Spatial Reference: 0
(0)
LatestVCSWkid(0)
Initial Extent:
XMin: 842235.834
YMin: 505130.02800000005
XMax: 879261.834
YMax: 537441.028
Spatial Reference: 0
(0)
LatestVCSWkid(0)
Full Extent:
XMin: 842235.834
YMin: 505130.02800000005
XMax: 879261.834
YMax: 537441.028
Spatial Reference: 0
(0)
LatestVCSWkid(0)
Pixel Size X: 0.25
Pixel Size Y: 0.25
Band Count: 5
Pixel Type: U8
RasterFunction Infos: {"rasterFunctionInfos": [{
"name": "None",
"description": "",
"help": ""
}]}
Mensuration Capabilities: Basic
Inspection Capabilities:
Has Histograms: true
Has Colormap: false
Has Multi Dimensions : false
Rendering Rule:
Min Scale: 66.22
Max Scale: 13126
Min LOD: 0
Max LOD: 7
Resampling: true
Copyright Text:
Service Data Type: esriImageServiceDataTypeGeneric
Min Values: 0, 0, 0, 0, 0
Max Values: 239, 230, 227, 248, 255
Mean Values: 109.23244863014, 106.8283390411, 97.188142123288, 126.70226883562, 200.55115582192
Standard Deviation Values: 63.730190248745, 61.106759274981, 56.832877339789, 70.149236795097, 102.04175860656
Object ID Field:
Fields:
None
Default Mosaic Method: Center
Allowed Mosaic Methods:
SortField:
SortValue: null
Mosaic Operator: First
Default Compression Quality: 75
Default Resampling Method: Bilinear
Max Record Count: null
Max Image Height: 4100
Max Image Width: 15000
Max Download Image Count: null
Max Mosaic Image Count: null
Allow Raster Function: true
Allow Copy: true
Allow Analysis: true
Allow Compute TiePoints: false
Supports Statistics: false
Supports Advanced Queries: false
Use StandardizedQueries: true
Raster Type Infos:
Name: Raster Dataset
Description: Supports all ArcGIS Raster Datasets
Help:
Has Raster Attribute Table: false
Edit Fields Info: null
Ownership Based AccessControl For Rasters: null
Child Resources:
Info
Histograms
Statistics
Key Properties
Legend
Raster Function Infos
Supported Operations:
Export Image
Identify
Measure
Compute Histograms
Compute Statistics Histograms
Get Samples
Compute Class Statistics
Query Boundary
Compute Pixel Location
Compute Angles
Validate
Project
EstimateExportTilesSize
ExportTiles