<?xml version="1.0" encoding="UTF-8" standalone="no"?>
<metadata xml:lang="en">
<Esri>
<CreaDate>20200825</CreaDate>
<CreaTime>10122400</CreaTime>
<ArcGISFormat>1.0</ArcGISFormat>
<ArcGISstyle>FGDC CSDGM Metadata</ArcGISstyle>
<SyncOnce>FALSE</SyncOnce>
<DataProperties>
<itemProps>
<itemName Sync="TRUE">C_Sun_Prairie_2020.sid</itemName>
<itemLocation>
<linkage Sync="TRUE">file://U:\ORTHO\WROC_Madison_Metro_2020\Finals\MrSIDs\Metro_MrSIDs\C_Sun_Prairie_2020.sid</linkage>
<protocol Sync="TRUE">Local Area Network</protocol>
</itemLocation>
<imsContentType Sync="TRUE" export="False">002</imsContentType>
<nativeExtBox>
<westBL Sync="TRUE">842235.834000</westBL>
<eastBL Sync="TRUE">879261.834000</eastBL>
<southBL Sync="TRUE">505130.028000</southBL>
<northBL Sync="TRUE">537441.028000</northBL>
<exTypeCode Sync="TRUE">1</exTypeCode>
</nativeExtBox>
</itemProps>
<coordRef>
<type Sync="TRUE">Projected</type>
<geogcsn Sync="TRUE">GCS_NAD83_2011</geogcsn>
<csUnits Sync="TRUE">Linear Unit: Foot_US (0.304801)</csUnits>
<projcsn Sync="TRUE">NAD_1983_2011_WISCRS_Dane_Feet</projcsn>
<peXml Sync="TRUE">&lt;ProjectedCoordinateSystem xsi:type='typens:ProjectedCoordinateSystem' xmlns:xsi='http://www.w3.org/2001/XMLSchema-instance' xmlns:xs='http://www.w3.org/2001/XMLSchema' xmlns:typens='http://www.esri.com/schemas/ArcGIS/10.7'&gt;&lt;WKT&gt;PROJCS[&amp;quot;NAD_1983_2011_WISCRS_Dane_Feet&amp;quot;,GEOGCS[&amp;quot;GCS_NAD83_2011&amp;quot;,DATUM[&amp;quot;D_NAD83_National_Spatial_Reference_System_2011&amp;quot;,SPHEROID[&amp;quot;GRS_1980&amp;quot;,6378137.0,298.257222101]],PRIMEM[&amp;quot;Greenwich&amp;quot;,0.0],UNIT[&amp;quot;Degree&amp;quot;,0.0174532925199433]],PROJECTION[&amp;quot;Lambert_Conformal_Conic&amp;quot;],PARAMETER[&amp;quot;false_easting&amp;quot;,811000.0],PARAMETER[&amp;quot;false_northing&amp;quot;,480943.886],PARAMETER[&amp;quot;central_meridian&amp;quot;,-89.42222222222223],PARAMETER[&amp;quot;standard_parallel_1&amp;quot;,43.0695160375],PARAMETER[&amp;quot;scale_factor&amp;quot;,1.0000384786],PARAMETER[&amp;quot;latitude_of_origin&amp;quot;,43.0695160375],UNIT[&amp;quot;Foot_US&amp;quot;,0.3048006096012192]],VERTCS[&amp;quot;VCS Name = NAVD88 height - Geoid12B (ftUS)|Datum Name = North American Vertical&amp;quot;,VDATUM[&amp;quot;North American Vertical Datum 1988&amp;quot;],PARAMETER[&amp;quot;Vertical_Shift&amp;quot;,0.0],PARAMETER[&amp;quot;Direction&amp;quot;,1.0],UNIT[&amp;quot;US survey foot&amp;quot;,0.3048006096012192]]&lt;/WKT&gt;&lt;XOrigin&gt;-119400400&lt;/XOrigin&gt;&lt;YOrigin&gt;-97309100&lt;/YOrigin&gt;&lt;XYScale&gt;37463997.818597034&lt;/XYScale&gt;&lt;ZOrigin&gt;-100000&lt;/ZOrigin&gt;&lt;ZScale&gt;3048.0060960121918&lt;/ZScale&gt;&lt;MOrigin&gt;-100000&lt;/MOrigin&gt;&lt;MScale&gt;10000&lt;/MScale&gt;&lt;XYTolerance&gt;0.0032808333333333331&lt;/XYTolerance&gt;&lt;ZTolerance&gt;0.0032808333333333335&lt;/ZTolerance&gt;&lt;MTolerance&gt;0.001&lt;/MTolerance&gt;&lt;HighPrecision&gt;true&lt;/HighPrecision&gt;&lt;/ProjectedCoordinateSystem&gt;</peXml>
</coordRef>
<RasterProperties>
<General>
<PixelDepth Sync="TRUE">8</PixelDepth>
<HasColormap Sync="TRUE">FALSE</HasColormap>
<CompressionType Sync="TRUE">Wavelet (MG4)</CompressionType>
<NumBands Sync="TRUE">5</NumBands>
<Format Sync="TRUE">MrSID</Format>
<HasPyramids Sync="TRUE">TRUE</HasPyramids>
<SourceType Sync="TRUE">continuous</SourceType>
<PixelType Sync="TRUE">unsigned integer</PixelType>
<NoDataValue Sync="TRUE"/>
</General>
</RasterProperties>
<copyHistory>
<copy date="20201203" dest="\\mdnf1\NTCOMMON\COMMON\Anne_L\Metadata\Wisconsin\WROC\WROC_2017_2020\2020\MUNIS\Dane_Co_munis\WROC2020_Dane_munis_temp_clean (1)" source="L:\COMMON\Anne_L\Metadata\Wisconsin\WROC\WROC_2017_2020\2020\MUNIS\Dane_Co_munis\WROC2020_Dane_munis_temp_clean" time="12351400"/>
</copyHistory>
</DataProperties>
<SyncDate>20201203</SyncDate>
<SyncTime>13323800</SyncTime>
<ModDate>20201203</ModDate>
<ModTime>13323800</ModTime>
<scaleRange>
<minScale>150000000</minScale>
<maxScale>5000</maxScale>
</scaleRange>
<ArcGISProfile>FGDC</ArcGISProfile>
</Esri>
<dataIdInfo>
<envirDesc Sync="TRUE"> Version 6.2 (Build 9200) ; Esri ArcGIS 10.7.1.11595</envirDesc>
<dataLang>
<languageCode Sync="TRUE" value="eng"/>
<countryCode Sync="TRUE" value="USA"/>
</dataLang>
<idCitation>
<resTitle Sync="TRUE">Sun Prairie 2020 orthimagery</resTitle>
<presForm>
<PresFormCd Sync="TRUE" value="005"/>
</presForm>
<date>
<createDate>2020-04-04T00:00:00</createDate>
<pubDate>2020-12-02T00:00:00</pubDate>
</date>
<citRespParty>
<rpOrgName>Ayres Associates</rpOrgName>
<role>
<RoleCd value="006"/>
</role>
<rpCntInfo>
<cntAddress addressType="both">
<delPoint>5201 E. Terrace Dr., Suite 200</delPoint>
<city>Madison</city>
<adminArea>Wisconsin</adminArea>
<postCode>53178</postCode>
<country>US</country>
</cntAddress>
<cntPhone>
<voiceNum tddtty="">(608) 443-1200</voiceNum>
<faxNum>(608) 299-2184</faxNum>
</cntPhone>
</rpCntInfo>
</citRespParty>
</idCitation>
<spatRpType>
<SpatRepTypCd Sync="TRUE" value="002"/>
</spatRpType>
<dataExt>
<geoEle>
<GeoBndBox esriExtentType="search">
<exTypeCode Sync="TRUE">1</exTypeCode>
<westBL Sync="TRUE">-89.305209</westBL>
<eastBL Sync="TRUE">-89.166136</eastBL>
<northBL Sync="TRUE">43.224455</northBL>
<southBL Sync="TRUE">43.135585</southBL>
</GeoBndBox>
</geoEle>
</dataExt>
<idPurp>This project established digital, 4-band orthoimagery services for the Madison Metro Area of Dane County, Wisconsin as part of FlyDane and the Wisconsin...</idPurp>
<idAbs>Ayres Associates provided Dane County, Wisconsin, with digital, 4-band orthoimagery of the Madison Metro Area in 2020 as part of FlyDane/WROC. The aerial imagery was collected on April 4th, 16th, 18th and 19th using a Microsoft Vexcel UltraCam Eagle sensor mounted in a fixed-wing aircraft. Aerial imagery was collected to support 0.25 foot ground sample distance (GSD) orthoimagery to meet ASPRS Class II horizontal accuracy specifications at 1"=50' map scale. The 6-inch pixel orthoimagery was produced to meet or exceed a horizontal accuracy of 0.7 feet RMSE according to ASPRS Positional Accuracy Standards for Digital Geospatial Data. Resultant orthoimagery was rectified to a DEM created from LiDAR collected in 2017. Orthoimagery was delivered in PLSS quarter-section GeoTiff and MrSID tiles and a project wide MrSID mosaic. Supplemental Information: FlyDane/WROC is a multi-entity group of county members and partners led by WROC representatives from Ayres Associates. The goal of the consortium is to build and sustain a multi-participant program to acquire digital orthoimagery and elevation data throughout Wisconsin. Orthoimagery was collected for the Madison Metro Area of Dane County in 2020 to provide consistent deliverable products and accuracy standards for each of the participating entities.</idAbs>
<searchKeys>
<keyword>digital</keyword>
<keyword>4-band</keyword>
<keyword>orthoimagery</keyword>
<keyword>3-inch</keyword>
</searchKeys>
<resConst>
<Consts>
<useLimit>Not to be used for purposes other than those strictly outlined in the 2020 FlyDane/WROC program.</useLimit>
</Consts>
</resConst>
<themeKeys>
<keyword>Wisconsin Regional Orthoimagery Consortium (WROC)</keyword>
</themeKeys>
<placeKeys>
<keyword>Village of Cottage Grove</keyword>
<keyword>Village of DeForest</keyword>
<keyword>City of Fitchburg</keyword>
<keyword>City of Madison</keyword>
<keyword>Town of Madison</keyword>
<keyword>City of McFarland</keyword>
<keyword>City of Middleton</keyword>
<keyword>Village of Oregon</keyword>
<keyword>City of Stoughton</keyword>
<keyword>City of Sun Prairie</keyword>
<keyword>Village of Waunakee</keyword>
<keyword>Madison Planning Organization (MPO)</keyword>
<keyword>Madison Metropolitan Sewage District (MMSD)</keyword>
</placeKeys>
<dataChar>
<CharSetCd value="004"/>
</dataChar>
<idStatus>
<ProgCd value="001"/>
</idStatus>
<idPoC>
<rpIndName>Fred Iausly </rpIndName>
<rpOrgName>Dane County Land Information Office</rpOrgName>
<role>
<RoleCd value="007"/>
</role>
<rpCntInfo>
<cntAddress addressType="">
<delPoint>201 Martin Luther King Jr. Blvd., Rm 339</delPoint>
<city>Madison</city>
<adminArea>Wisconsin</adminArea>
<postCode>53703</postCode>
<eMailAdd>iausly@countyofdane.com</eMailAdd>
<country>US</country>
</cntAddress>
<cntPhone>
<voiceNum tddtty="">(608) 266-4398</voiceNum>
</cntPhone>
</rpCntInfo>
</idPoC>
<resMaint>
<maintFreq>
<MaintFreqCd value="011"/>
</maintFreq>
</resMaint>
<themeKeys>
<keyword>FlyDane</keyword>
</themeKeys>
<tpCat>
<TopicCatCd value="010"/>
</tpCat>
<idCredit/>
</dataIdInfo>
<mdLang>
<languageCode Sync="TRUE" value="eng"/>
<countryCode Sync="TRUE" value="USA"/>
</mdLang>
<mdChar>
<CharSetCd Sync="TRUE" value="004"/>
</mdChar>
<distInfo>
<distFormat>
<formatName Sync="TRUE">Raster Dataset</formatName>
</distFormat>
</distInfo>
<mdHrLv>
<ScopeCd Sync="TRUE" value="005"/>
</mdHrLv>
<mdHrLvName Sync="TRUE">dataset</mdHrLvName>
<refSysInfo>
<RefSystem>
<refSysID>
<identCode Sync="TRUE" code="0"/>
<idCodeSpace Sync="TRUE">EPSG</idCodeSpace>
<idVersion Sync="TRUE">8.8(10.4.0)</idVersion>
</refSysID>
</RefSystem>
</refSysInfo>
<spatRepInfo>
<Georect>
<cellGeo>
<CellGeoCd Sync="TRUE" value="002"/>
</cellGeo>
<numDims Sync="TRUE">2</numDims>
<tranParaAv Sync="TRUE">1</tranParaAv>
<chkPtAv Sync="TRUE">0</chkPtAv>
<cornerPts>
<pos Sync="TRUE">842235.834000 505130.028000</pos>
</cornerPts>
<cornerPts>
<pos Sync="TRUE">842235.834000 537441.028000</pos>
</cornerPts>
<cornerPts>
<pos Sync="TRUE">879261.834000 537441.028000</pos>
</cornerPts>
<cornerPts>
<pos Sync="TRUE">879261.834000 505130.028000</pos>
</cornerPts>
<centerPt>
<pos Sync="TRUE">860748.834000 521285.528000</pos>
</centerPt>
<axisDimension type="002">
<dimSize Sync="TRUE">148104</dimSize>
<dimResol>
<value Sync="TRUE" uom="ftUS">0.250000</value>
</dimResol>
</axisDimension>
<axisDimension type="001">
<dimSize Sync="TRUE">129244</dimSize>
<dimResol>
<value Sync="TRUE" uom="ftUS">0.250000</value>
</dimResol>
</axisDimension>
<ptInPixel>
<PixOrientCd Sync="TRUE" value="001"/>
</ptInPixel>
</Georect>
</spatRepInfo>
<contInfo>
<ImgDesc>
<contentTyp>
<ContentTypCd Sync="TRUE" value="001"/>
</contentTyp>
<covDim>
<Band>
<dimDescrp Sync="TRUE">Band_1</dimDescrp>
<bitsPerVal Sync="TRUE">8</bitsPerVal>
<valUnit>
<UOM type="length"/>
</valUnit>
<maxVal Sync="TRUE">239.000000</maxVal>
<minVal Sync="TRUE">0.000000</minVal>
</Band>
<Band>
<dimDescrp Sync="TRUE">Band_2</dimDescrp>
<bitsPerVal Sync="TRUE">8</bitsPerVal>
<valUnit>
<UOM type="length"/>
</valUnit>
<maxVal Sync="TRUE">230.000000</maxVal>
<minVal Sync="TRUE">0.000000</minVal>
</Band>
<Band>
<dimDescrp Sync="TRUE">Band_3</dimDescrp>
<bitsPerVal Sync="TRUE">8</bitsPerVal>
<valUnit>
<UOM type="length"/>
</valUnit>
<maxVal Sync="TRUE">227.000000</maxVal>
<minVal Sync="TRUE">0.000000</minVal>
</Band>
<Band>
<dimDescrp Sync="TRUE">Band_4</dimDescrp>
<bitsPerVal Sync="TRUE">8</bitsPerVal>
<valUnit>
<UOM type="length"/>
</valUnit>
<maxVal Sync="TRUE">248.000000</maxVal>
<minVal Sync="TRUE">0.000000</minVal>
</Band>
<Band>
<dimDescrp Sync="TRUE">Band_5</dimDescrp>
<maxVal Sync="TRUE">255.000000</maxVal>
<minVal Sync="TRUE">0.000000</minVal>
<bitsPerVal Sync="TRUE">8</bitsPerVal>
<valUnit>
<UOM type="length"/>
</valUnit>
</Band>
</covDim>
</ImgDesc>
</contInfo>
<mdDateSt Sync="TRUE">20201203</mdDateSt>
<mdContact>
<rpOrgName>Ayres Associates</rpOrgName>
<role>
<RoleCd value="006"/>
</role>
<rpCntInfo>
<cntAddress addressType="both">
<delPoint>5201 E. Terrace Dr., Suite 200</delPoint>
<city>Madison</city>
<adminArea>Wisconsin</adminArea>
<postCode>53178</postCode>
<country>US</country>
</cntAddress>
<cntPhone>
<voiceNum tddtty="">(608) 443-1200</voiceNum>
<faxNum>(608) 299-2184</faxNum>
</cntPhone>
</rpCntInfo>
<displayName>Ayres Associates</displayName>
</mdContact>
<mdMaint>
<maintFreq>
<MaintFreqCd value="011"/>
</maintFreq>
</mdMaint>
<dqInfo>
<report dimension="vertical" type="DQConcConsis">
<measDesc>Images were color corrected to match adjacent flight lines. The resulting imagery was globally tilted in terms of contrast and color to form a radiometrically consistent orthophoto mosaic.</measDesc>
</report>
<report dimension="" type="DQCompOm">
<measDesc>These data cover the entirety of the 2020 FlyDane/WROC program.</measDesc>
</report>
<dataLineage>
<prcStep>
<stepDesc>Ground control consisted of photo identifiable surveyed points. The imagery was collected using a Microsoft Vexcel UltraCam Eagle at 7cm GSD. Image quality was verified during the post flight review phase. Factors considered during this review included, but were not limited to, the presence of cloud cover, contrails, light conditions and sun flare. A rigorous Aerotriangulation process was performed and supplemented by the photo ID survey points. The triangulated strips were rectified to a DEM created from LiDAR collected in 2017. The imagery was mosaicked using manual seamlines generation and tone/color balanced to a project-wide consistency. PLSS quarter-section RGBN tiles were extracted from the mosaic and each individual tile was reviewed for artifacts and anomalies and adjusted as part of quality control procedures. The images were reviewed for rectification problems such as bridge displacements and seamline issues caused by the underlying digital elevation model. When necessary, local corrections to the imagery were performed to minimize such effects. </stepDesc>
<stepDateTm>2020-05-21T00:00:00</stepDateTm>
</prcStep>
</dataLineage>
</dqInfo>
</metadata>
